BEGIN:VCALENDAR
VERSION:2.0
PRODID:-//https://ww.eruuf.org///NONSGML kigkonsult.se iCalcreator 2.10.15//
METHOD:PUBLISH
BEGIN:VEVENT
UID:20260420T062147UTC-5609BEx2jU@https://ww.eruuf.org/
DTSTAMP:20260420T062147Z
DESCRIPTION:All\, especially first timers\, are invited for book discussion
  and fellowship. This group meets over Zoom on the third Tuesday every mon
 th. \nFor more information and to receive the Zoom link\, reach out to the
  ERUUF Book Club. \n \n\n\n\n\nMay 20\, 2025\n\n\nThe Heaven and Earth Gro
 cery Store\n\n\nJames McBride\n\n\n\n\nJune 17\, 2025\n\n\nTrust\n\n\nHerm
 an Diaz\n\n\n\n\nJuly 15\, 2025\n\n\nShelterwood\n\n\nAriel Lawhon\n\n\n\n
 \nAugust 19\, 2025\n\n\nTable for Two (short stories)\n\n\nAmor Towles\n\n
 \n\n\nSeptember 16\, 2025\n\n\nAn Immense World (nonfiction science)\n\n\n
 Ed Yong\n\n\n\n\nOctober 21\, 2025\n\n\nThe North Woods\n\n\nDaniel Mason
 \n\n\n\n\nNovember 18\, 2025\n\n\nThe Frozen River (a novel)\n\n\nLisa Win
 gate\n\n\n\n\nDecember 16 No Meeting Winter Holidays\n\n\n\n\nJanuary 20\,
  2026\n\n\nJames and The Adventures of Huckleberry Finn\n\n\nPercival Ever
 itt\; Mark Twain\n\n\n\n\n  https://ww.eruuf.org/calendar/calendar-events/
 event/15295-eruuf-book-club.html
DTSTART:20250520T230000Z
DTEND:20250521T003000Z
LOCATION:Online  (Online meetings are organized by the group leader. See th
 e meeting event details for information on how to join.)
SUMMARY:ERUUF Book Club
URL:https://ww.eruuf.org/calendar/calendar-events/event/15295-eruuf-book-cl
 ub.html
END:VEVENT
END:VCALENDAR
