BEGIN:VCALENDAR
VERSION:2.0
PRODID:-//https://ww.eruuf.org///NONSGML kigkonsult.se iCalcreator 2.10.15//
METHOD:PUBLISH
BEGIN:VEVENT
UID:20260420T223251UTC-6780GhfOCt@https://ww.eruuf.org/
DTSTAMP:20260420T223251Z
DESCRIPTION:The ERUUF Book Club meets next Tuesday\, March 17th at 7:00 PM 
 online via Zoom. The Earth Justice Team will be joining us as we discuss T
 he Invention of Nature: Alexander von Humboldt's New World by Andrea Wulf.
  All\, especially first timers\, are invited for book discussion and fello
 wship.\n \nFUTURE ERUUF BOOK CLUB MEETINGS & TITLES  \n\n\n\n\nApril 21\, 
 2026\n\n\nI Cheerfully Refuse\n\n\nLeif Enger\n\n\n\n\nMay 19\, 2026\n\n\n
 Chasing Me to My Grave: An Artist's Memoir of the Jim Crow South\n\n\nWinf
 red Rembert\, as told by Erin I. Kelly\n\n\n\n\nJune 16\, 2026\n\n\nA Town
  Without Time: Gay Talese's New York\n\n\nGay Talese\n\n\n\n\nJuly 21\, 20
 26\n\nRemarkably Bright Creatures\nShelby Van Pelt\n\n\n\nAugust 18\, 2026
 \n\n\nChange\n\n\nEdouard Louis\, Translated by John Lambert\n\n\n\n\nSept
 ember 15\, 2026\n\n\nFever Beach\n\n\nCarl Hiaasen\n\n\n\n\nOctober 20\, 2
 026\n\n\nThe Antidote\n\n\nKaren Russell\n\n\n\n\nNovember 17\, 2026\n\n\n
 Care and Feeding: A Memoir\n\n\nLaurie Woolever\n\n\n\n\nDecember 15 No Me
 eting Winter Holidays\n\n\n\n\nFor More Information and the Zoom link\, co
 ntact the ERUUF Book Club. https://ww.eruuf.org/calendar/calendar-events/e
 vent/15305-eruuf-book-club.html
DTSTART:20260317T230000Z
DTEND:20260318T003000Z
LOCATION:Online  (Online meetings are organized by the group leader. See th
 e meeting event details for information on how to join.)
SUMMARY:ERUUF Book Club
URL:https://ww.eruuf.org/calendar/calendar-events/event/15305-eruuf-book-cl
 ub.html
END:VEVENT
END:VCALENDAR
