BEGIN:VCALENDAR
VERSION:2.0
PRODID:-//https://ww.eruuf.org///NONSGML kigkonsult.se iCalcreator 2.10.15//
METHOD:PUBLISH
BEGIN:VEVENT
UID:20260423T220905UTC-2475ttSrCW@https://ww.eruuf.org/
DTSTAMP:20260423T220905Z
DESCRIPTION:A self-guided group of singers and acoustic instrumentalists.\n
 Our group is grounded in the folk style\, with songs chosen and arranged b
 y group members. \nEmail River Folk for more information!  https://ww.eruu
 f.org/calendar/calendar-events/event/15375-river-folk-rehearsal.html
DTSTART:20260601T230000Z
DTEND:20260602T003000Z
LOCATION:ERUUF Fellowship Hall (4907 Garrett Road)
SUMMARY:River Folk Rehearsal
URL:https://ww.eruuf.org/calendar/calendar-events/event/15375-river-folk-re
 hearsal.html
END:VEVENT
END:VCALENDAR
