BEGIN:VCALENDAR
VERSION:2.0
PRODID:-//https://ww.eruuf.org///NONSGML kigkonsult.se iCalcreator 2.10.15//
METHOD:PUBLISH
BEGIN:VEVENT
UID:20260421T213602UTC-13036mUvTz@https://ww.eruuf.org/
DTSTAMP:20260421T213602Z
DESCRIPTION:Community chorus open to all. No audition required!\nPlease con
 tact the Music Director\, Wendy Looker\, for more information. https://ww.
 eruuf.org/calendar/calendar-events/event/15479-eno-river-singers-rehearsal
 .html
DTSTART:20260423T230000Z
DTEND:20260424T003000Z
LOCATION:Sanctuary - ERUUF   (4907 Garrett Road\, Durham\, NC 27707  )
SUMMARY:Eno River Singers Rehearsal
URL:https://ww.eruuf.org/calendar/calendar-events/event/15479-eno-river-sin
 gers-rehearsal.html
END:VEVENT
END:VCALENDAR
