BEGIN:VCALENDAR
VERSION:2.0
PRODID:-//https://ww.eruuf.org///NONSGML kigkonsult.se iCalcreator 2.10.15//
METHOD:PUBLISH
BEGIN:VEVENT
UID:20260421T003854UTC-0310PpZLZM@https://ww.eruuf.org/
DTSTAMP:20260421T003854Z
DESCRIPTION:Are you in Grades 4-8 and would like to participate in the Chal
 ice Singers? Join us starting Sun.\, Sept. 7 between services!\nFor more i
 nformation\, email chalicesingers@eruuf.org.  https://ww.eruuf.org/calenda
 r/calendar-events/event/15833-chalice-singers-choir-rehearsal.html
DTSTART:20260510T141500Z
DTEND:20260510T145000Z
LOCATION:ERUUF Campus   (4907 Garrett Rd\, Durham\, NC 27707    )
SUMMARY:Chalice Singers Choir Rehearsal
URL:https://ww.eruuf.org/calendar/calendar-events/event/15833-chalice-singe
 rs-choir-rehearsal.html
END:VEVENT
END:VCALENDAR
