BEGIN:VCALENDAR
VERSION:2.0
PRODID:-//https://ww.eruuf.org///NONSGML kigkonsult.se iCalcreator 2.10.15//
METHOD:PUBLISH
BEGIN:VEVENT
UID:20260420T230502UTC-9955rVu1mM@https://ww.eruuf.org/
DTSTAMP:20260420T230502Z
DESCRIPTION:Dates: Saturdays\, February 7\, March 7\, April 4\, May 2\, Jun
 e 6Time: 9:00 – 11:00 amLocation: Room 4/5\, CARE BuildingFormat: In-perso
 nRegistration RequiredFacilitated by Leadership Development Team\nEverybod
 y Welcome!\nKey practices\, concepts and tools plus components of ERUUF’s 
 operations for ERUUFians interested in learning about leadership roles in 
 the fellowship.Attendees are requested to attend all sessions\nSee Flyer f
 or detailed information.\nRegistration https://ww.eruuf.org/calendar/calen
 dar-events/event/16101-intro-to-leadership-at-eruuf-a-primer.html
DTSTART:20260207T140000Z
DTEND:20260207T160000Z
LOCATION:CARE Building\, Room 4/5 (4907 Garrett Road)
SUMMARY: Intro to Leadership at ERUUF – A Primer
URL:https://ww.eruuf.org/calendar/calendar-events/event/16101-intro-to-lead
 ership-at-eruuf-a-primer.html
END:VEVENT
END:VCALENDAR
