BEGIN:VCALENDAR
VERSION:2.0
PRODID:-//https://ww.eruuf.org///NONSGML kigkonsult.se iCalcreator 2.10.15//
METHOD:PUBLISH
BEGIN:VEVENT
UID:20260420T150205UTC-5396F7u4CM@https://ww.eruuf.org/
DTSTAMP:20260420T150205Z
DESCRIPTION:The ERUUF Book Club meets next Tuesday\, November 17 at 7:00 PM
  online via Zoom.\nWe are discussing Care and Feeding: A Memoir by Laurie 
 Woolever.  All\, especially first timers\, are invited for book discussion
  and fellowship.\n \nNO MEETING IN DECEMBER \n \nFor More Information and 
 the Zoom link\, contact the ERUUF Book Club. https://ww.eruuf.org/calendar
 /calendar-events/event/16182-eruuf-book-club.html
DTSTART:20261118T000000Z
DTEND:20261118T013000Z
LOCATION:Online  (Online meetings are organized by the group leader. See th
 e meeting event details for information on how to join.)
SUMMARY:ERUUF Book Club
URL:https://ww.eruuf.org/calendar/calendar-events/event/16182-eruuf-book-cl
 ub.html
END:VEVENT
END:VCALENDAR
