BEGIN:VCALENDAR
VERSION:2.0
PRODID:-//https://ww.eruuf.org///NONSGML kigkonsult.se iCalcreator 2.10.15//
METHOD:PUBLISH
BEGIN:VEVENT
UID:20260423T171749UTC-6868UIrPfE@https://ww.eruuf.org/
DTSTAMP:20260423T171749Z
DESCRIPTION:Lobby in Raleigh Against Fake Pregnancy Centers\nJoin ERUUF and
  Interfaith Voices for Reproductive Freedom (IVRF) at the NC General Assem
 bly on Tuesday\, May 5th from 8:45am to 1:00pm to demand that taxpayer fun
 ding for anti-abortion crisis pregnancy centers (CPCs) is redirected to le
 gitimate sources of reproductive and maternal healthcare. Stay tuned for a
  bill from Rep. Julie von Haefen! No lobbying experience needed: an advoca
 cy training will be provided on Zoom by Planned Parenthood Votes! South At
 lantic on April 27 at 7pm\, and a recording will be shared for anyone who 
 cannot join. Car pool from ERUUF\, leave at 8:00 am. \nFor more informatio
 n\, contact the Reproductive Justice Action Group\n  https://ww.eruuf.org/
 calendar/calendar-events/event/16234-justice-ministry-council.html
DTSTART:20260505T124500Z
DTEND:20260505T180000Z
LOCATION:Offsite ()
SUMMARY:Reproductive Justice Action Group
URL:https://ww.eruuf.org/calendar/calendar-events/event/16234-justice-minis
 try-council.html
END:VEVENT
END:VCALENDAR
