BEGIN:VCALENDAR
VERSION:2.0
PRODID:-//https://ww.eruuf.org///NONSGML kigkonsult.se iCalcreator 2.10.15//
METHOD:PUBLISH
BEGIN:VEVENT
UID:20260422T215020UTC-37003IIWkB@https://ww.eruuf.org/
DTSTAMP:20260422T215020Z
DESCRIPTION:A self-guided group of singers and acoustic instrumentalists.\n
 Our group is grounded in the folk style\, with songs chosen and arranged b
 y group members. \nEmail River Folk for more information!  https://ww.eruu
 f.org/calendar/next-week/event/15371-river-folk-rehearsal.html
DTSTART:20260504T230000Z
DTEND:20260505T003000Z
LOCATION:ERUUF Fellowship Hall (4907 Garrett Road)
SUMMARY:River Folk Rehearsal
URL:https://ww.eruuf.org/calendar/next-week/event/15371-river-folk-rehearsa
 l.html
END:VEVENT
END:VCALENDAR
