BEGIN:VCALENDAR
VERSION:2.0
PRODID:-//https://ww.eruuf.org///NONSGML kigkonsult.se iCalcreator 2.10.15//
METHOD:PUBLISH
BEGIN:VEVENT
UID:20260424T123717UTC-3392Po5bZs@https://ww.eruuf.org/
DTSTAMP:20260424T123717Z
DESCRIPTION:Community chorus open to all. No audition required!\nPlease con
 tact the Music Director\, Wendy Looker\, for more information. https://ww.
 eruuf.org/calendar/next-week/event/15484-eno-river-singers-rehearsal.html
DTSTART:20260528T230000Z
DTEND:20260529T003000Z
LOCATION:Sanctuary - ERUUF   (4907 Garrett Road\, Durham\, NC 27707  )
SUMMARY:Eno River Singers Rehearsal
URL:https://ww.eruuf.org/calendar/next-week/event/15484-eno-river-singers-r
 ehearsal.html
END:VEVENT
END:VCALENDAR
