BEGIN:VCALENDAR
VERSION:2.0
PRODID:-//https://ww.eruuf.org///NONSGML kigkonsult.se iCalcreator 2.10.15//
METHOD:PUBLISH
BEGIN:VEVENT
UID:20260424T143922UTC-3866W7SFIL@https://ww.eruuf.org/
DTSTAMP:20260424T143922Z
DESCRIPTION:Cosponsored by Eno River CUUPS and TAPA (Triangle Area Pagan Al
 liance) Workshops\, readings\, author talks\, 20 vendors\, and a midday co
 mmunity ritual to celebrate Beltane. A donation of one can of food for the
  Inter-Faith Food Shuttle is requested.\nFor more information\, please con
 tact Eno River CUUPS. https://ww.eruuf.org/calendar/next-week/event/16239-
 little-pagan-faire.html
DTSTART:20260502T140000Z
DTEND:20260502T220000Z
LOCATION:CARE Building   ()
SUMMARY:Little Pagan Faire
URL:https://ww.eruuf.org/calendar/next-week/event/16239-little-pagan-faire.
 html
END:VEVENT
END:VCALENDAR
