BEGIN:VCALENDAR
VERSION:2.0
PRODID:-//https://ww.eruuf.org///NONSGML kigkonsult.se iCalcreator 2.10.15//
METHOD:PUBLISH
BEGIN:VEVENT
UID:20260426T041841UTC-8868G0Mdm0@https://ww.eruuf.org/
DTSTAMP:20260426T041841Z
DESCRIPTION:The 9:00 am - 10:00 am service is our contemplative\, more quie
 t service.\nMasks are optional for in-person attendance by congregants and
  participants. \nFor more information about service each week\, subscribe 
 to our weekly E-News.  https://ww.eruuf.org/calendar/past-events/event/156
 34-sunday-service-9am.html
DTSTART:20260118T140000Z
DTEND:20260118T145000Z
LOCATION:Sanctuary - ERUUF   (4907 Garrett Road\, Durham\, NC 27707  )
SUMMARY:Sunday Service (9am)
URL:https://ww.eruuf.org/calendar/past-events/event/15634-sunday-service-9a
 m.html
END:VEVENT
END:VCALENDAR
