BEGIN:VCALENDAR
VERSION:2.0
PRODID:-//https://ww.eruuf.org///NONSGML kigkonsult.se iCalcreator 2.10.15//
METHOD:PUBLISH
BEGIN:VEVENT
UID:20260422T085839UTC-9819f0BvIf@https://ww.eruuf.org/
DTSTAMP:20260422T085839Z
DESCRIPTION:We will discuss the varied perspectives of Jews on Israel.\nFor
  more information\, contact the ERUUF Jewish Fellowship.  https://ww.eruuf
 .org/calendar/this-week/event/15284-jewish-fellowship-meeting.html
DTSTART:20260524T170000Z
DTEND:20260524T183000Z
LOCATION:Library - CARE Building ()
SUMMARY:Jewish Fellowship Meeting
URL:https://ww.eruuf.org/calendar/this-week/event/15284-jewish-fellowship-m
 eeting.html
END:VEVENT
END:VCALENDAR
