BEGIN:VCALENDAR
VERSION:2.0
PRODID:-//https://ww.eruuf.org///NONSGML kigkonsult.se iCalcreator 2.10.15//
METHOD:PUBLISH
BEGIN:VEVENT
UID:20260424T214543UTC-2727KD2NJ7@https://ww.eruuf.org/
DTSTAMP:20260424T214543Z
DESCRIPTION:On Sunday April 26\, after the 11:00 service\, members of the M
 emorial Garden Team will be present at Coffee Hour to discuss planned impr
 ovements in the Memorial Garden.\nFor more information\, please contact th
 e Garden Team.\n  https://ww.eruuf.org/calendar/this-week/event/16240-memo
 rial-garden-improvements.html
DTSTART:20260426T161500Z
DTEND:20260426T170000Z
LOCATION:Fellowship Hall   ()
SUMMARY:Memorial Garden Improvements
URL:https://ww.eruuf.org/calendar/this-week/event/16240-memorial-garden-imp
 rovements.html
END:VEVENT
END:VCALENDAR
