BEGIN:VCALENDAR
VERSION:2.0
PRODID:-//https://ww.eruuf.org///NONSGML kigkonsult.se iCalcreator 2.10.15//
METHOD:PUBLISH
BEGIN:VEVENT
UID:20260421T113449UTC-7954WENgeu@https://ww.eruuf.org/
DTSTAMP:20260421T113449Z
DESCRIPTION:We are a Buddhist practice group that meets to meditate\, hear 
 teachings\, and share insights. The group draws mostly from early Buddhist
  sources. We offer one another encouragement and support as we seek to und
 erstand and to apply the Buddha’s teachings in our lives.\nFor more inform
 ation\, check out the website and reach out to the Eno River Buddhist Comm
 unity.  https://ww.eruuf.org/connect/events-small-groups/event/14759-eno-r
 iver-buddhist-community.html
DTSTART:20250227T003000Z
DTEND:20250227T013000Z
LOCATION:ERUUF Commons Room (4907 Garrett Road)
SUMMARY:Eno River Buddhist Community
URL:https://ww.eruuf.org/connect/events-small-groups/event/14759-eno-river-
 buddhist-community.html
END:VEVENT
END:VCALENDAR
