BEGIN:VCALENDAR
VERSION:2.0
PRODID:-//https://ww.eruuf.org///NONSGML kigkonsult.se iCalcreator 2.10.15//
METHOD:PUBLISH
BEGIN:VEVENT
UID:20260420T020942UTC-4139UuMTPV@https://ww.eruuf.org/
DTSTAMP:20260420T020942Z
DESCRIPTION:Christian Nationalism Is on the Rise in NC. What Can You Do?\nJ
 oin ERUUF's Protecting Separation of Church and State justice group and th
 e Triangle Freethough Society for a timely and empowering presentation by 
 a speaker from Americans United for the Separation of Church and State (AU
 )\, the only organization in the country devoted exclusively to defending 
 the constitutional wall between church and state. North Carolina is on the
  front lines of the Christian nationalist movement.\nOur state legislature
  has budgeted tens of millions of tax-payer dollars to Unregulated Pregnan
 cy Centers (nonprofit organizations masquerading as medical clinics\, most
  of which have an explicit conservative Christian agenda). The legislature
  has also funneled hundreds of millions in taxpayer dollars to private rel
 igious schools through the voucher program.  Religious arguments have been
  used in the legislature to justify restricting access to abortion and to 
 gender-affirming care. In 2025 alone\, as pressure mounts to blur the line
  between religion and government\, bills were introduced that would allow 
 public schools to hire chaplains in place of school counselors and allow s
 tudents to leave school property during the school day to receive religiou
 s education. \nAU fights Christian nationalism in the courts\, in legislat
 ures\, and in the public square\, challenging the movement's core claim th
 at America was founded as a Christian nation and its agenda of rolling bac
 k rights for people of color\, women\, LGBTQ+ people\, religious minoritie
 s\, and the nonreligious. You'll learn what Christian nationalism really i
 s\; how it operates through a powerful shadow network of politicians\, bil
 lionaires\, and advocacy groups\; and most importantly\, what you can do a
 bout it.\nFor more information\, contact the Protecting Seperation of Chur
 ch and State group. https://ww.eruuf.org/justice/justice-ministry/events-j
 ustice/event/16012-protecting-separation-of-church-and-state-meeting.html
DTSTART:20260329T200000Z
DTEND:20260329T213000Z
LOCATION:Fellowship Hall   ()
SUMMARY:Protecting Separation of Church and State Meeting
URL:https://ww.eruuf.org/justice/justice-ministry/events-justice/event/1601
 2-protecting-separation-of-church-and-state-meeting.html
END:VEVENT
END:VCALENDAR
