BEGIN:VCALENDAR
VERSION:2.0
PRODID:-//https://ww.eruuf.org///NONSGML kigkonsult.se iCalcreator 2.10.15//
METHOD:PUBLISH
BEGIN:VEVENT
UID:20260425T120807UTC-7255iWtBou@https://ww.eruuf.org/
DTSTAMP:20260425T120807Z
DESCRIPTION:250th Anniversary of the American Revolution: What does it mean
  to you? What does it say to us today? You may think you know a lot about 
 the American Revolution\, but the documentary director\, Ken Burns\, may s
 urprise you! In his recent six-part documentary on the American Revolution
 \, Burns says the American Revolution was a 'civil war' that became a 'wor
 ld war.' He aims to educate and have you 'rethink what you know about the 
 American Revolution.” Join us to learn and be surprised. Before our discus
 sion\, we will watch a brief video entitled 'Giving Voice to the American 
 Revolution'. \nRegister Here https://ww.eruuf.org/justice/justice-ministry
 /events-justice/event/16236-1st-sunday-conversations-multicultural-team.ht
 ml
DTSTART:20260503T173000Z
DTEND:20260503T183000Z
LOCATION:Online  (Online meetings are organized by the group leader. See th
 e meeting event details for information on how to join.)
SUMMARY:1st Sunday Conversations (Multicultural Team)
URL:https://ww.eruuf.org/justice/justice-ministry/events-justice/event/1623
 6-1st-sunday-conversations-multicultural-team.html
END:VEVENT
END:VCALENDAR
