BEGIN:VCALENDAR
VERSION:2.0
PRODID:-//https://ww.eruuf.org///NONSGML kigkonsult.se iCalcreator 2.10.15//
METHOD:PUBLISH
BEGIN:VEVENT
UID:20260419T161440UTC-0581EkWP6a@https://ww.eruuf.org/
DTSTAMP:20260419T161440Z
DESCRIPTION:Are you in Grades 4-8 and would like to participate in the Chal
 ice Singers? Join us starting Sun.\, Sept. 7 between services!\nFor more i
 nformation\, email chalicesingers@eruuf.org.  https://ww.eruuf.org/learn/c
 hildren-youth-family/events-youth/event/15549-chalice-singers-choir-rehear
 sal.html
DTSTART:20250907T141500Z
DTEND:20250907T145000Z
LOCATION:ERUUF Campus   (4907 Garrett Rd\, Durham\, NC 27707    )
SUMMARY:Chalice Singers Choir Rehearsal
URL:https://ww.eruuf.org/learn/children-youth-family/events-youth/event/155
 49-chalice-singers-choir-rehearsal.html
END:VEVENT
END:VCALENDAR
